BEGIN:VCALENDAR
VERSION:2.0
PRODID:-//ScaleUp Technologies - ECPv6.14.2//NONSGML v1.0//EN
CALSCALE:GREGORIAN
METHOD:PUBLISH
X-WR-CALNAME:ScaleUp Technologies
X-ORIGINAL-URL:https://www.scaleuptech.com/en
X-WR-CALDESC:Events for ScaleUp Technologies
REFRESH-INTERVAL;VALUE=DURATION:PT1H
X-Robots-Tag:noindex
X-PUBLISHED-TTL:PT1H
BEGIN:VTIMEZONE
TZID:Europe/Berlin
BEGIN:DAYLIGHT
TZOFFSETFROM:+0100
TZOFFSETTO:+0200
TZNAME:CEST
DTSTART:20260329T010000
END:DAYLIGHT
BEGIN:STANDARD
TZOFFSETFROM:+0200
TZOFFSETTO:+0100
TZNAME:CET
DTSTART:20261025T010000
END:STANDARD
END:VTIMEZONE
BEGIN:VEVENT
DTSTART;VALUE=DATE:20260429
DTEND;VALUE=DATE:20260501
DTSTAMP:20260421T171412
CREATED:20260106T111244Z
LAST-MODIFIED:20260106T111244Z
UID:16086-1777420800-1777593599@www.scaleuptech.com
SUMMARY:OCP EMEA Summit Barcelona
DESCRIPTION:Treffen wir uns in Barcelona?  \nOCP EMEA Summit 2026 – Am 29. und 30. April dreht sich alles um Effizienz und Nachhaltigkeit in der EMEA-Region. Wir freuen uns darauf\, Sie in der Ausstellungshalle oder im Innovation Village zu treffen! Tauchen Sie mit uns in die Welt der OCP-Innovationen ein und entdecken Sie zukunftsweisende Technologien. Jetzt Termin vormerken und Treffen mit uns vereinbaren! \nBeim OCP EMEA Summit treffen sich weltweit führende Technikexperten\, um Fragen der Nachhaltigkeit\, Energieeffizienz und Wärmerückgewinnung in Rechenzentren zu erörtern. Der Schwerpunkt liegt auf Innovationen von Betreibern hyperskaliger Rechenzentren zur Lösung dieser Herausforderungen. Außerdem wird der Einsatz spezifischer\, von OCP anerkannter Rechenzentrumsausrüstung beleuchtet. \n 
URL:https://www.scaleuptech.com/en/veranstaltung/ocp-emea-summit-barcelona/
LOCATION:Barcelona International Convention Center (CCIB)\, 11-14\, Sant Martí\, Barcelona\, Plaça de Willy Brandt\, 08019\, Spain
CATEGORIES:Open Compute,Sustainable Digitalisation
ATTACH;FMTTYPE=image/jpeg:https://www.scaleuptech.com/wp-content/uploads/2026/01/OCP-EMEA-2_16-9.jpg
END:VEVENT
BEGIN:VEVENT
DTSTART;TZID=Europe/Berlin:20260521T100000
DTEND;TZID=Europe/Berlin:20260521T180000
DTSTAMP:20260421T171412
CREATED:20260128T145654Z
LAST-MODIFIED:20260128T145755Z
UID:16110-1779357600-1779386400@www.scaleuptech.com
SUMMARY:Sovereign Cloud Stack Summit 2026
DESCRIPTION:Am 21. Mai 2026 dreht sich einen ganzen Tag lang alles um den Sovereign Cloud Stack. \nFreuen Sie sich auf spannende Berichte aus SCS-Projekten\, Einblicke in aktuelle Themen der SCS-Community und vor allem auf den direkten Dialog und persönliche Gespräche über die Weiterentwicklung souveräner Cloud-Infrastrukturen. \nDie Veranstaltung richtet sich an alle\, die bereits mit SCS arbeiten und sich austauschen möchten\, sowie an alle\, die Interesse daran haben\, den Sovereign Cloud Stack kennenzulernen.
URL:https://www.scaleuptech.com/en/veranstaltung/sovereign-cloud-stack-summit-2026/
LOCATION:bAround Berlin\, Paul-Lincke-Ufer 21\, Berlin\, 10999
CATEGORIES:IT Souveränität,Open Source
END:VEVENT
BEGIN:VEVENT
DTSTART;TZID=Europe/Berlin:20260609T090000
DTEND;TZID=Europe/Berlin:20260609T170000
DTSTAMP:20260421T171412
CREATED:20260420T103444Z
LAST-MODIFIED:20260420T103444Z
UID:16370-1780995600-1781024400@www.scaleuptech.com
SUMMARY:Nextcloud Summit 2026
DESCRIPTION:Am 9. Juni 2026 findet der Nextcloud Summit in München statt. \nZusammen mit unserem Open Cloud Partner der HKN GmbH zeigen wir vor Ort\, wie eine souveräne Cloud Lösung auf Basis offener Standard aussehen kann. Durch das Zusammenspiel von offener Hardware (OCP)\, dem Sovereign Cloud Stack (OpenStack\, Kubernetes) und Nextcloud entsteht eine echte Alternative zu den proprietären Lösungen der großen Cloud Anbieter. \nTreffen Sie uns vor Ort in München und kommen Sie ins Gespräch.
URL:https://www.scaleuptech.com/en/veranstaltung/nextcloud-summit-2026/
LOCATION:Marriott München West\, Landsberger Str. 156\, München\, 80867\, Germany
CATEGORIES:IT Souveränität,Open Source
END:VEVENT
END:VCALENDAR